BEGIN:VCALENDAR
VERSION:2.0
PRODID:-//www.arcnbc.org//NONSGML kigkonsult.se iCalcreator 2.30.10//
CALSCALE:GREGORIAN
METHOD:PUBLISH
UID:dbf6cb7d-5509-46ee-8373-9ff5c620714c
X-WR-CALDESC:All Rec Connect members are welcome to join us on Tuesday nigh
 ts for bowling.  The cost is $6.10 per person for 2 games.  Bowling starts
  promptly at 6:00 pm.
X-WR-RELCALID:3799940185cc0bb5b95cac93b1811b8d
X-WR-TIMEZONE:America/New_York
BEGIN:VTIMEZONE
TZID:America/New_York
BEGIN:STANDARD
TZNAME:EST
DTSTART:20191103T020000
TZOFFSETFROM:-0400
TZOFFSETTO:-0500
RDATE:20201101T020000
END:STANDARD
BEGIN:DAYLIGHT
TZNAME:EDT
DTSTART:20190310T020000
TZOFFSETFROM:-0500
TZOFFSETTO:-0400
RDATE:20200308T020000
RDATE:20210314T020000
END:DAYLIGHT
END:VTIMEZONE
BEGIN:VEVENT
UID:82297560-b332-42d0-a33b-8af183306c7e
DTSTAMP:20260423T102024Z
DESCRIPTION:All Rec Connect members are welcome to join us on Tuesday night
 s for bowling.  The cost is $6.10 per person for 2 games.  Bowling starts 
 promptly at 6:00 pm.
DTSTART;TZID=America/New_York:20200225T180000
DTEND;TZID=America/New_York:20200225T200000
LOCATION:East Providence Lanes
SUMMARY:Bowling
END:VEVENT
END:VCALENDAR
