BEGIN:VCALENDAR
VERSION:2.0
PRODID:-//www.arcnbc.org//NONSGML kigkonsult.se iCalcreator 2.30.10//
CALSCALE:GREGORIAN
METHOD:PUBLISH
UID:ac2e18fb-f861-4fb6-884b-61a2ab7f725c
X-WR-CALDESC:A night of dancing with friends.
X-WR-RELCALID:323b91050eca3bb1d9661314b615313d
X-WR-TIMEZONE:America/New_York
BEGIN:VTIMEZONE
TZID:America/New_York
BEGIN:STANDARD
TZNAME:EST
DTSTART:20191103T020000
TZOFFSETFROM:-0400
TZOFFSETTO:-0500
RDATE:20201101T020000
END:STANDARD
BEGIN:DAYLIGHT
TZNAME:EDT
DTSTART:20190310T020000
TZOFFSETFROM:-0500
TZOFFSETTO:-0400
RDATE:20200308T020000
RDATE:20210314T020000
END:DAYLIGHT
END:VTIMEZONE
BEGIN:VEVENT
UID:a977058a-d3a1-4947-8fbf-0b4cd2dd5451
DTSTAMP:20260423T120825Z
DESCRIPTION:A night of dancing with friends.
DTSTART;TZID=America/New_York:20200227T180000
DTEND;TZID=America/New_York:20200227T210000
LOCATION:Taunton Portuguese/American club
SUMMARY:Fran's Dance
END:VEVENT
END:VCALENDAR
