BEGIN:VCALENDAR
VERSION:2.0
PRODID:-//www.arcnbc.org//NONSGML kigkonsult.se iCalcreator 2.30.10//
CALSCALE:GREGORIAN
METHOD:PUBLISH
UID:643535df-161d-471b-9d1d-90be117a11cf
X-WR-CALDESC:
X-WR-RELCALID:10d93aaecf914e67c3d244b6e02525c7
X-WR-TIMEZONE:America/New_York
BEGIN:VTIMEZONE
TZID:America/New_York
BEGIN:STANDARD
TZNAME:EST
DTSTART:20191103T020000
TZOFFSETFROM:-0400
TZOFFSETTO:-0500
RDATE:20201101T020000
END:STANDARD
BEGIN:DAYLIGHT
TZNAME:EDT
DTSTART:20190310T020000
TZOFFSETFROM:-0500
TZOFFSETTO:-0400
RDATE:20200308T020000
RDATE:20210314T020000
END:DAYLIGHT
END:VTIMEZONE
BEGIN:VEVENT
UID:47be1a90-31cd-498e-b803-be43bdf32a76
DTSTAMP:20260423T102029Z
DESCRIPTION:
DTSTART;TZID=America/New_York:20200229T170000
DTEND;TZID=America/New_York:20200229T223000
LOCATION:The Hanover Theater Worcestor\, Ma
SUMMARY:Titan's of Rock
END:VEVENT
END:VCALENDAR
