BEGIN:VCALENDAR
VERSION:2.0
PRODID:-//www.arcnbc.org//NONSGML kigkonsult.se iCalcreator 2.30.10//
CALSCALE:GREGORIAN
METHOD:PUBLISH
UID:c998be61-07a6-4ae8-8395-0bfa3bcff38f
X-WR-CALDESC:
X-WR-RELCALID:0f1e484fa9904416f013cab11eb728f3
X-WR-TIMEZONE:America/New_York
BEGIN:VTIMEZONE
TZID:America/New_York
BEGIN:STANDARD
TZNAME:EST
DTSTART:20191103T020000
TZOFFSETFROM:-0400
TZOFFSETTO:-0500
RDATE:20201101T020000
END:STANDARD
BEGIN:DAYLIGHT
TZNAME:EDT
DTSTART:20190310T020000
TZOFFSETFROM:-0500
TZOFFSETTO:-0400
RDATE:20200308T020000
RDATE:20210314T020000
END:DAYLIGHT
END:VTIMEZONE
BEGIN:VEVENT
UID:0bafe8fc-0815-4ca6-b088-3b9bf0dbcfe5
DTSTAMP:20260423T101947Z
DESCRIPTION:
DTSTART;TZID=America/New_York:20200305T150000
DTEND;TZID=America/New_York:20200305T173000
LOCATION:The Arc 141 Park St. Attleboro\, Ma
SUMMARY:Self Advocacy
END:VEVENT
END:VCALENDAR
