BEGIN:VCALENDAR
VERSION:2.0
PRODID:-//www.arcnbc.org//NONSGML kigkonsult.se iCalcreator 2.30.10//
CALSCALE:GREGORIAN
METHOD:PUBLISH
UID:ec5c493e-8af6-4ad7-bdb4-9485539e05fa
X-WR-CALDESC:
X-WR-RELCALID:5179dd553feec0fd80fbdfb88f8b74ff
X-WR-TIMEZONE:America/New_York
BEGIN:VTIMEZONE
TZID:America/New_York
BEGIN:STANDARD
TZNAME:EST
DTSTART:20191103T020000
TZOFFSETFROM:-0400
TZOFFSETTO:-0500
RDATE:20201101T020000
END:STANDARD
BEGIN:DAYLIGHT
TZNAME:EDT
DTSTART:20200308T020000
TZOFFSETFROM:-0500
TZOFFSETTO:-0400
RDATE:20210314T020000
END:DAYLIGHT
END:VTIMEZONE
BEGIN:VEVENT
UID:55bfc39d-bfbe-4fc3-bd03-1a691d71db4b
DTSTAMP:20260423T102722Z
DESCRIPTION:
DTSTART;TZID=America/New_York:20200310T183000
DTEND;TZID=America/New_York:20200310T223000
LOCATION:The Hanover Theater Worcester\, Ma
SUMMARY:Rain Concert: Tribute to The Beatles
END:VEVENT
END:VCALENDAR
