BEGIN:VCALENDAR
VERSION:2.0
PRODID:-//www.arcnbc.org//NONSGML kigkonsult.se iCalcreator 2.30.10//
CALSCALE:GREGORIAN
METHOD:PUBLISH
UID:a8af30a5-6246-469b-9181-2c4daea7ec61
X-WR-CALDESC:Light snacks and drinks will be provided.
X-WR-RELCALID:97ecd53522642144813dc3f9d5ea34ae
X-WR-TIMEZONE:America/New_York
BEGIN:VTIMEZONE
TZID:America/New_York
BEGIN:STANDARD
TZNAME:EST
DTSTART:20191103T020000
TZOFFSETFROM:-0400
TZOFFSETTO:-0500
RDATE:20201101T020000
END:STANDARD
BEGIN:DAYLIGHT
TZNAME:EDT
DTSTART:20200308T020000
TZOFFSETFROM:-0500
TZOFFSETTO:-0400
RDATE:20210314T020000
END:DAYLIGHT
END:VTIMEZONE
BEGIN:VEVENT
UID:ee80d5d3-f6fa-41a6-99c9-81e7cef8a0a6
DTSTAMP:20260423T101825Z
DESCRIPTION:Light snacks and drinks will be provided.
DTSTART;TZID=America/New_York:20200312T180000
DTEND;TZID=America/New_York:20200312T200000
LOCATION:The Arc 141 Park St Attleboro\, Ma
SUMMARY:St. Patrick's Day Party
END:VEVENT
END:VCALENDAR
