BEGIN:VCALENDAR
VERSION:2.0
PRODID:-//www.arcnbc.org//NONSGML kigkonsult.se iCalcreator 2.30.10//
CALSCALE:GREGORIAN
METHOD:PUBLISH
UID:d63347bc-ff3f-4b87-867f-fd7aeaf3ce3f
X-WR-CALDESC:
X-WR-RELCALID:fa2ec72efc14953b72587a59ed232c2c
X-WR-TIMEZONE:America/New_York
BEGIN:VTIMEZONE
TZID:America/New_York
BEGIN:STANDARD
TZNAME:EST
DTSTART:20191103T020000
TZOFFSETFROM:-0400
TZOFFSETTO:-0500
RDATE:20201101T020000
END:STANDARD
BEGIN:DAYLIGHT
TZNAME:EDT
DTSTART:20200308T020000
TZOFFSETFROM:-0500
TZOFFSETTO:-0400
RDATE:20210314T020000
END:DAYLIGHT
END:VTIMEZONE
BEGIN:VEVENT
UID:eda4c30b-39fe-4d9d-8af5-b4fb9da736cf
DTSTAMP:20260423T102147Z
DESCRIPTION:
DTSTART;TZID=America/New_York:20200316T170000
DTEND;TZID=America/New_York:20200316T213000
LOCATION:North Attleboro Showcase
SUMMARY:Pizza and movie night
END:VEVENT
END:VCALENDAR
