BEGIN:VCALENDAR
VERSION:2.0
PRODID:-//www.arcnbc.org//NONSGML kigkonsult.se iCalcreator 2.30.10//
CALSCALE:GREGORIAN
METHOD:PUBLISH
UID:5c2d1aac-b1aa-4bc5-a7a7-32c75c407ba2
X-WR-CALDESC:
X-WR-RELCALID:446ee08cccd6d4af2f731802c595cdbe
X-WR-TIMEZONE:America/New_York
BEGIN:VTIMEZONE
TZID:America/New_York
BEGIN:STANDARD
TZNAME:EST
DTSTART:20191103T020000
TZOFFSETFROM:-0400
TZOFFSETTO:-0500
RDATE:20201101T020000
END:STANDARD
BEGIN:DAYLIGHT
TZNAME:EDT
DTSTART:20200308T020000
TZOFFSETFROM:-0500
TZOFFSETTO:-0400
RDATE:20210314T020000
END:DAYLIGHT
END:VTIMEZONE
BEGIN:VEVENT
UID:88440133-6d44-4b61-a0da-fc404bd83ef8
DTSTAMP:20260423T101829Z
DESCRIPTION:
DTSTART;TZID=America/New_York:20200317T180000
DTEND;TZID=America/New_York:20200317T180000
LOCATION:
SUMMARY:NO BOWLING
END:VEVENT
END:VCALENDAR
