BEGIN:VCALENDAR
VERSION:2.0
PRODID:-//www.arcnbc.org//NONSGML kigkonsult.se iCalcreator 2.30.10//
CALSCALE:GREGORIAN
METHOD:PUBLISH
UID:4703501f-3e54-4c5c-9112-652d6ff0ef28
X-WR-CALDESC:All supplies and instruction will be provided
X-WR-RELCALID:2f59138b9a3433c448be8dbc40c5d345
X-WR-TIMEZONE:America/New_York
BEGIN:VTIMEZONE
TZID:America/New_York
BEGIN:STANDARD
TZNAME:EST
DTSTART:20191103T020000
TZOFFSETFROM:-0400
TZOFFSETTO:-0500
RDATE:20201101T020000
END:STANDARD
BEGIN:DAYLIGHT
TZNAME:EDT
DTSTART:20200308T020000
TZOFFSETFROM:-0500
TZOFFSETTO:-0400
RDATE:20210314T020000
END:DAYLIGHT
END:VTIMEZONE
BEGIN:VEVENT
UID:a8c47922-53e6-429b-887d-c7b8bad4f765
DTSTAMP:20260423T101828Z
DESCRIPTION:All supplies and instruction will be provided
DTSTART;TZID=America/New_York:20200323T180000
DTEND;TZID=America/New_York:20200323T200000
LOCATION:The Arc 141 Park St Attleboro\, Ma
SUMMARY:Paint & Cocoa
END:VEVENT
END:VCALENDAR
