BEGIN:VCALENDAR
VERSION:2.0
PRODID:-//www.arcnbc.org//NONSGML kigkonsult.se iCalcreator 2.30.10//
CALSCALE:GREGORIAN
METHOD:PUBLISH
UID:e07081e8-b00e-4d40-a115-54e4b52107e7
X-WR-CALDESC:A night of dancing with friends.
X-WR-RELCALID:0edad794ac31c18feb3e89ecc7a3ccc0
X-WR-TIMEZONE:America/New_York
BEGIN:VTIMEZONE
TZID:America/New_York
BEGIN:STANDARD
TZNAME:EST
DTSTART:20191103T020000
TZOFFSETFROM:-0400
TZOFFSETTO:-0500
RDATE:20201101T020000
END:STANDARD
BEGIN:DAYLIGHT
TZNAME:EDT
DTSTART:20200308T020000
TZOFFSETFROM:-0500
TZOFFSETTO:-0400
RDATE:20210314T020000
END:DAYLIGHT
END:VTIMEZONE
BEGIN:VEVENT
UID:b393c8ce-2455-4fc9-b990-61c87d6ef672
DTSTAMP:20260423T102030Z
DESCRIPTION:A night of dancing with friends.
DTSTART;TZID=America/New_York:20200326T180000
DTEND;TZID=America/New_York:20200326T210000
LOCATION:Taunton Portuguese/American club
SUMMARY:Fran's Dance
END:VEVENT
END:VCALENDAR
