BEGIN:VCALENDAR
VERSION:2.0
PRODID:-//www.arcnbc.org//NONSGML kigkonsult.se iCalcreator 2.30.10//
CALSCALE:GREGORIAN
METHOD:PUBLISH
UID:a45d3ad7-a3e8-449f-b9a2-9758c662525f
X-WR-CALDESC:
X-WR-RELCALID:99d079b4ceae12e7d017aafc694a42d4
X-WR-TIMEZONE:America/New_York
BEGIN:VTIMEZONE
TZID:America/New_York
BEGIN:STANDARD
TZNAME:EST
DTSTART:20191103T020000
TZOFFSETFROM:-0400
TZOFFSETTO:-0500
RDATE:20201101T020000
END:STANDARD
BEGIN:DAYLIGHT
TZNAME:EDT
DTSTART:20200308T020000
TZOFFSETFROM:-0500
TZOFFSETTO:-0400
RDATE:20210314T020000
END:DAYLIGHT
END:VTIMEZONE
BEGIN:VEVENT
UID:ffeedbbf-783a-4438-83c7-e740360b7163
DTSTAMP:20260423T101826Z
DESCRIPTION:
DTSTART;TZID=America/New_York:20200327T170000
DTEND;TZID=America/New_York:20200327T220000
LOCATION:The Zeiterion Theater New Bedford\, Ma
SUMMARY:Peking Acrobats & Dinner
END:VEVENT
END:VCALENDAR
