BEGIN:VCALENDAR
VERSION:2.0
PRODID:-//www.arcnbc.org//NONSGML kigkonsult.se iCalcreator 2.30.10//
CALSCALE:GREGORIAN
METHOD:PUBLISH
UID:20335b7d-cfc9-420a-8d51-af4e01c532c4
X-WR-CALDESC:
X-WR-RELCALID:7434244c2f13129eee0781754bd60da0
X-WR-TIMEZONE:America/New_York
BEGIN:VTIMEZONE
TZID:America/New_York
BEGIN:STANDARD
TZNAME:EST
DTSTART:20191103T020000
TZOFFSETFROM:-0400
TZOFFSETTO:-0500
RDATE:20201101T020000
END:STANDARD
BEGIN:DAYLIGHT
TZNAME:EDT
DTSTART:20200308T020000
TZOFFSETFROM:-0500
TZOFFSETTO:-0400
RDATE:20210314T020000
END:DAYLIGHT
END:VTIMEZONE
BEGIN:VEVENT
UID:828eefd6-9d34-4828-8bc0-310b268fe7ee
DTSTAMP:20260423T102024Z
DESCRIPTION:
DTSTART;TZID=America/New_York:20200329T120000
DTEND;TZID=America/New_York:20200329T183000
LOCATION:Dunkin Donuts Center Providence\, RI
SUMMARY:Providence Bruins and Lunch
END:VEVENT
END:VCALENDAR
