BEGIN:VCALENDAR
VERSION:2.0
PRODID:-//www.arcnbc.org//NONSGML kigkonsult.se iCalcreator 2.30.10//
CALSCALE:GREGORIAN
METHOD:PUBLISH
UID:5de6cc9c-14b3-4ebc-986a-36c4d7301f80
X-WR-CALDESC:
X-WR-RELCALID:0dc57bca1b516dd1a0b7b0c06ab804ef
X-WR-TIMEZONE:America/New_York
BEGIN:VTIMEZONE
TZID:America/New_York
BEGIN:STANDARD
TZNAME:EST
DTSTART:20191103T020000
TZOFFSETFROM:-0400
TZOFFSETTO:-0500
RDATE:20201101T020000
END:STANDARD
BEGIN:DAYLIGHT
TZNAME:EDT
DTSTART:20200308T020000
TZOFFSETFROM:-0500
TZOFFSETTO:-0400
RDATE:20210314T020000
END:DAYLIGHT
END:VTIMEZONE
BEGIN:VEVENT
UID:d4864cb5-b484-4ee9-8f2c-e13c0a9abebe
DTSTAMP:20260423T101829Z
DESCRIPTION:
DTSTART;TZID=America/New_York:20200331T180000
DTEND;TZID=America/New_York:20200331T200000
LOCATION:East Providence Lanes East Providence\, RI
SUMMARY:Bowling
END:VEVENT
END:VCALENDAR
