BEGIN:VCALENDAR
VERSION:2.0
PRODID:-//www.arcnbc.org//NONSGML kigkonsult.se iCalcreator 2.30.10//
CALSCALE:GREGORIAN
METHOD:PUBLISH
UID:798bb639-8674-4484-80ac-002047be5ba2
X-WR-CALDESC:A night of dancing with friends.
X-WR-RELCALID:000f4c95421d980322e96412926e6268
X-WR-TIMEZONE:America/New_York
BEGIN:VTIMEZONE
TZID:America/New_York
BEGIN:STANDARD
TZNAME:EST
DTSTART:20191103T020000
TZOFFSETFROM:-0400
TZOFFSETTO:-0500
RDATE:20201101T020000
END:STANDARD
BEGIN:DAYLIGHT
TZNAME:EDT
DTSTART:20200308T020000
TZOFFSETFROM:-0500
TZOFFSETTO:-0400
RDATE:20210314T020000
END:DAYLIGHT
END:VTIMEZONE
BEGIN:VEVENT
UID:93e572e8-9816-47d0-a2e1-c997622cb134
DTSTAMP:20260423T120825Z
DESCRIPTION:A night of dancing with friends.
DTSTART;TZID=America/New_York:20200430T180000
DTEND;TZID=America/New_York:20200430T210000
LOCATION:Taunton Portuguese/American club
SUMMARY:Fran's Dance
END:VEVENT
END:VCALENDAR
