BEGIN:VCALENDAR
VERSION:2.0
PRODID:-//www.arcnbc.org//NONSGML kigkonsult.se iCalcreator 2.30.10//
CALSCALE:GREGORIAN
METHOD:PUBLISH
UID:7ff55c2d-d49e-4785-818c-5a708200500f
X-WR-CALDESC:Get together with your Rec Connect crew.  Check in\, catch up 
 and have fun together.
X-WR-RELCALID:670d11a60bae85429913dde6b508aa75
X-WR-TIMEZONE:America/New_York
BEGIN:VTIMEZONE
TZID:America/New_York
BEGIN:STANDARD
TZNAME:EST
DTSTART:20191103T020000
TZOFFSETFROM:-0400
TZOFFSETTO:-0500
RDATE:20201101T020000
END:STANDARD
BEGIN:DAYLIGHT
TZNAME:EDT
DTSTART:20200308T020000
TZOFFSETFROM:-0500
TZOFFSETTO:-0400
RDATE:20210314T020000
END:DAYLIGHT
END:VTIMEZONE
BEGIN:VEVENT
UID:a350c476-9bdd-43de-990c-bb4f8ab72568
DTSTAMP:20260423T102422Z
DESCRIPTION:Get together with your Rec Connect crew.  Check in\, catch up a
 nd have fun together.
DTSTART;TZID=America/New_York:20200507T153000
DTEND;TZID=America/New_York:20200507T163000
LOCATION:Zoom Meetings
SUMMARY:Rec Connect Weekly Check In & Fun
END:VEVENT
END:VCALENDAR
