BEGIN:VCALENDAR
VERSION:2.0
PRODID:-//www.arcnbc.org//NONSGML kigkonsult.se iCalcreator 2.30.10//
CALSCALE:GREGORIAN
METHOD:PUBLISH
UID:e50e2c5a-1760-42cd-bf84-5ff24140a427
X-WR-CALDESC:Let's play trivia on some of our favorite Disney facts!
X-WR-RELCALID:2678bf814720e0a7db44efe928f158bf
X-WR-TIMEZONE:America/New_York
BEGIN:VTIMEZONE
TZID:America/New_York
BEGIN:STANDARD
TZNAME:EST
DTSTART:20191103T020000
TZOFFSETFROM:-0400
TZOFFSETTO:-0500
RDATE:20201101T020000
RDATE:20211107T020000
END:STANDARD
BEGIN:DAYLIGHT
TZNAME:EDT
DTSTART:20200308T020000
TZOFFSETFROM:-0500
TZOFFSETTO:-0400
RDATE:20210314T020000
END:DAYLIGHT
END:VTIMEZONE
BEGIN:VEVENT
UID:6776f819-7c12-46f3-a838-cd57967915a4
DTSTAMP:20260423T101946Z
DESCRIPTION:Let's play trivia on some of our favorite Disney facts!
DTSTART;TZID=America/New_York:20200520T140000
DTEND;TZID=America/New_York:20200520T150000
LOCATION:Zoom Meetings
SUMMARY:Disney Trivia (Under 18)
END:VEVENT
END:VCALENDAR
