BEGIN:VCALENDAR
VERSION:2.0
PRODID:-//www.arcnbc.org//NONSGML kigkonsult.se iCalcreator 2.30.10//
CALSCALE:GREGORIAN
METHOD:PUBLISH
UID:a9d87bd1-a1ca-46ab-8355-ff6d780edb52
X-WR-CALDESC:Brian Scott will be hosting an interactive magic show \, and h
 e may even teach a few of his tricks.  Magic Show for all age groups.  You
  can check out his website here:\n https://brianscottproductions.com/
X-WR-RELCALID:d233bd6bd3edc0935335d2ebe3aa03ce
X-WR-TIMEZONE:America/New_York
BEGIN:VTIMEZONE
TZID:America/New_York
BEGIN:STANDARD
TZNAME:EST
DTSTART:20191103T020000
TZOFFSETFROM:-0400
TZOFFSETTO:-0500
RDATE:20201101T020000
RDATE:20211107T020000
END:STANDARD
BEGIN:DAYLIGHT
TZNAME:EDT
DTSTART:20200308T020000
TZOFFSETFROM:-0500
TZOFFSETTO:-0400
RDATE:20210314T020000
END:DAYLIGHT
END:VTIMEZONE
BEGIN:VEVENT
UID:a5a7e722-bb83-4959-9ea1-5dc417aeba01
DTSTAMP:20260423T101828Z
DESCRIPTION:Brian Scott will be hosting an interactive magic show \, and he
  may even teach a few of his tricks.  Magic Show for all age groups.  You 
 can check out his website here:\n https://brianscottproductions.com/
DTSTART;TZID=America/New_York:20200525T180000
DTEND;TZID=America/New_York:20200525T190000
LOCATION:Zoom Meetings
SUMMARY:Magic from a Distance
END:VEVENT
END:VCALENDAR
