BEGIN:VCALENDAR
VERSION:2.0
PRODID:-//www.arcnbc.org//NONSGML kigkonsult.se iCalcreator 2.30.10//
CALSCALE:GREGORIAN
METHOD:PUBLISH
UID:acff9f4e-c120-4ac9-8099-3f765773b45f
X-WR-CALDESC:Music/Interactive Therapy/Music by Marcie (All ages)\nInteract
 ive songs\, games and dancing puppets\nwww.kidsmusicbymarcie.com\n
X-WR-RELCALID:89dd3472bcdc42ea04d9715f9541048e
X-WR-TIMEZONE:America/New_York
BEGIN:VTIMEZONE
TZID:America/New_York
BEGIN:STANDARD
TZNAME:EST
DTSTART:20191103T020000
TZOFFSETFROM:-0400
TZOFFSETTO:-0500
RDATE:20201101T020000
RDATE:20211107T020000
END:STANDARD
BEGIN:DAYLIGHT
TZNAME:EDT
DTSTART:20200308T020000
TZOFFSETFROM:-0500
TZOFFSETTO:-0400
RDATE:20210314T020000
END:DAYLIGHT
END:VTIMEZONE
BEGIN:VEVENT
UID:7d809ef5-73ea-4271-aa95-7275ed368d76
DTSTAMP:20260423T121149Z
DESCRIPTION:Music/Interactive Therapy/Music by Marcie (All ages)\nInteracti
 ve songs\, games and dancing puppets\nwww.kidsmusicbymarcie.com\n
DTSTART;TZID=America/New_York:20200526T130000
DTEND;TZID=America/New_York:20200526T140000
LOCATION:Zoom Meetings
SUMMARY:Music with Marcie
END:VEVENT
END:VCALENDAR
