BEGIN:VCALENDAR
VERSION:2.0
PRODID:-//www.arcnbc.org//NONSGML kigkonsult.se iCalcreator 2.30.10//
CALSCALE:GREGORIAN
METHOD:PUBLISH
UID:624943d0-d02e-414e-9166-9e926f866b86
X-WR-CALDESC:A night of dancing with friends.
X-WR-RELCALID:aa3aeb4ff69018142d61befedf79fc17
X-WR-TIMEZONE:America/New_York
BEGIN:VTIMEZONE
TZID:America/New_York
BEGIN:STANDARD
TZNAME:EST
DTSTART:20191103T020000
TZOFFSETFROM:-0400
TZOFFSETTO:-0500
RDATE:20201101T020000
RDATE:20211107T020000
END:STANDARD
BEGIN:DAYLIGHT
TZNAME:EDT
DTSTART:20200308T020000
TZOFFSETFROM:-0500
TZOFFSETTO:-0400
RDATE:20210314T020000
END:DAYLIGHT
END:VTIMEZONE
BEGIN:VEVENT
UID:0f832366-3aa6-4759-9289-956ba43e2ff1
DTSTAMP:20260423T120827Z
DESCRIPTION:A night of dancing with friends.
DTSTART;TZID=America/New_York:20200528T180000
DTEND;TZID=America/New_York:20200528T210000
LOCATION:Taunton Portuguese/American club
SUMMARY:Fran's Dance
END:VEVENT
END:VCALENDAR
