BEGIN:VCALENDAR
VERSION:2.0
PRODID:-//www.arcnbc.org//NONSGML kigkonsult.se iCalcreator 2.30.10//
CALSCALE:GREGORIAN
METHOD:PUBLISH
UID:abdf3eb2-f265-4bba-b224-0fabf7640c15
X-WR-CALDESC:Meditation Yoga (Caregivers & Staff):\nThis class is geared to
 ward caregivers and staff with a \nfocus on wellness \nJoin us in taking t
 ime out to relax your mind and body \nduring these stressful times \nHoste
 d by \nShannon Foley and David Trauterman Co-founders of Healing Within \n
X-WR-RELCALID:605787f9045dee4dab77dc4a53135ae3
X-WR-TIMEZONE:America/New_York
BEGIN:VTIMEZONE
TZID:America/New_York
BEGIN:STANDARD
TZNAME:EST
DTSTART:20191103T020000
TZOFFSETFROM:-0400
TZOFFSETTO:-0500
RDATE:20201101T020000
RDATE:20211107T020000
END:STANDARD
BEGIN:DAYLIGHT
TZNAME:EDT
DTSTART:20200308T020000
TZOFFSETFROM:-0500
TZOFFSETTO:-0400
RDATE:20210314T020000
END:DAYLIGHT
END:VTIMEZONE
BEGIN:VEVENT
UID:64ce45b6-1246-431e-833e-e9d7cc4c1110
DTSTAMP:20260423T103121Z
DESCRIPTION:Meditation Yoga (Caregivers & Staff):\nThis class is geared tow
 ard caregivers and staff with a \nfocus on wellness \nJoin us in taking ti
 me out to relax your mind and body \nduring these stressful times \nHosted
  by \nShannon Foley and David Trauterman Co-founders of Healing Within \n
DTSTART;TZID=America/New_York:20200529T170000
DTEND;TZID=America/New_York:20200529T180000
LOCATION:Zoom Meetings
SUMMARY:Mindfulness Meditation & Yoga (Caregivers & Staff)
END:VEVENT
END:VCALENDAR
