BEGIN:VCALENDAR
VERSION:2.0
PRODID:-//www.arcnbc.org//NONSGML kigkonsult.se iCalcreator 2.30.10//
CALSCALE:GREGORIAN
METHOD:PUBLISH
UID:a2d98d62-21d1-4a5b-a706-75e7a01c542d
X-WR-CALDESC:Music/Interactive Therapy/Music by Marcie (All ages)\nInteract
 ive songs\, games and dancing puppets\nwww.kidsmusicbymarcie.com\n
X-WR-RELCALID:99a7a843fd665a6c6dbae903a1690b30
X-WR-TIMEZONE:America/New_York
BEGIN:VTIMEZONE
TZID:America/New_York
BEGIN:STANDARD
TZNAME:EST
DTSTART:20191103T020000
TZOFFSETFROM:-0400
TZOFFSETTO:-0500
RDATE:20201101T020000
RDATE:20211107T020000
END:STANDARD
BEGIN:DAYLIGHT
TZNAME:EDT
DTSTART:20200308T020000
TZOFFSETFROM:-0500
TZOFFSETTO:-0400
RDATE:20210314T020000
END:DAYLIGHT
END:VTIMEZONE
BEGIN:VEVENT
UID:0e887ac8-557d-4a77-aa36-4b2e97b3f060
DTSTAMP:20260423T121047Z
DESCRIPTION:Music/Interactive Therapy/Music by Marcie (All ages)\nInteracti
 ve songs\, games and dancing puppets\nwww.kidsmusicbymarcie.com\n
DTSTART;TZID=America/New_York:20200602T130000
DTEND;TZID=America/New_York:20200602T140000
LOCATION:Zoom Meetings
SUMMARY:Music with Marcie
END:VEVENT
END:VCALENDAR
