BEGIN:VCALENDAR
VERSION:2.0
PRODID:-//www.arcnbc.org//NONSGML kigkonsult.se iCalcreator 2.30.10//
CALSCALE:GREGORIAN
METHOD:PUBLISH
UID:b4bc4798-de99-4450-b105-0e972ba9808e
X-WR-CALDESC:Meditation Yoga (Caregivers & Staff):\nThis class is geared to
 ward caregivers and staff with a \nfocus on wellness \nJoin us in taking t
 ime out to relax your mind and body \nduring these stressful times \nHoste
 d by \nShannon Foley and David Trauterman Co-founders of Healing Within \n
X-WR-RELCALID:818f6cdfbfafb5ab81072da7cdfdf5cd
X-WR-TIMEZONE:America/New_York
BEGIN:VTIMEZONE
TZID:America/New_York
BEGIN:STANDARD
TZNAME:EST
DTSTART:20191103T020000
TZOFFSETFROM:-0400
TZOFFSETTO:-0500
RDATE:20201101T020000
RDATE:20211107T020000
END:STANDARD
BEGIN:DAYLIGHT
TZNAME:EDT
DTSTART:20200308T020000
TZOFFSETFROM:-0500
TZOFFSETTO:-0400
RDATE:20210314T020000
END:DAYLIGHT
END:VTIMEZONE
BEGIN:VEVENT
UID:a3c39036-23ed-466b-885d-32b369e546c0
DTSTAMP:20260423T103121Z
DESCRIPTION:Meditation Yoga (Caregivers & Staff):\nThis class is geared tow
 ard caregivers and staff with a \nfocus on wellness \nJoin us in taking ti
 me out to relax your mind and body \nduring these stressful times \nHosted
  by \nShannon Foley and David Trauterman Co-founders of Healing Within \n
DTSTART;TZID=America/New_York:20200605T170000
DTEND;TZID=America/New_York:20200605T180000
LOCATION:Zoom Meetings
SUMMARY:Mindfulness Meditation & Yoga (Caregivers & Staff)
END:VEVENT
END:VCALENDAR
