BEGIN:VCALENDAR
VERSION:2.0
PRODID:-//www.arcnbc.org//NONSGML kigkonsult.se iCalcreator 2.30.10//
CALSCALE:GREGORIAN
METHOD:PUBLISH
UID:4dfb23f3-072c-4375-9d87-b3de9a558321
X-WR-CALDESC:All the folks in Day Program in our RI office proAbility are g
 etting together daily.  They are doing a variety of groups daily.  They fi
 rst meet in one large group and then branch off into a group of their choo
 sing. (There are usually 3 meetings a day to offer)  Here are  some of the
  groups they have done so far and will continue to do: \nLet's Talk\, Dail
 y Basics: Reading Skills\, World History\, Math Games\, Music\, Movies\,  
 Health\,  Safety and Boundaries\, Handling & Dealing with Covid-19 (ways t
 o cope)\, Social Skills Groups\, Zumba\, Yoga\, How To Work Towards Meanin
 gful Employment\,  \nThey are also adding some fun in the Daily Evening gr
 oups at 4:30:\nTrivia\, Name That Tune\, Jeopardy\, Hangman.
X-WR-RELCALID:bd7cb3e1c87535580be5192400c6ec94
X-WR-TIMEZONE:America/New_York
BEGIN:VTIMEZONE
TZID:America/New_York
BEGIN:STANDARD
TZNAME:EST
DTSTART:20191103T020000
TZOFFSETFROM:-0400
TZOFFSETTO:-0500
RDATE:20201101T020000
RDATE:20211107T020000
END:STANDARD
BEGIN:DAYLIGHT
TZNAME:EDT
DTSTART:20200308T020000
TZOFFSETFROM:-0500
TZOFFSETTO:-0400
RDATE:20210314T020000
END:DAYLIGHT
END:VTIMEZONE
BEGIN:VEVENT
UID:820042ee-9e92-4d13-9c45-bce2c030a8c7
DTSTAMP:20260423T103008Z
DESCRIPTION:All the folks in Day Program in our RI office proAbility are ge
 tting together daily.  They are doing a variety of groups daily.  They fir
 st meet in one large group and then branch off into a group of their choos
 ing. (There are usually 3 meetings a day to offer)  Here are  some of the 
 groups they have done so far and will continue to do: \nLet's Talk\, Daily
  Basics: Reading Skills\, World History\, Math Games\, Music\, Movies\,  H
 ealth\,  Safety and Boundaries\, Handling & Dealing with Covid-19 (ways to
  cope)\, Social Skills Groups\, Zumba\, Yoga\, How To Work Towards Meaning
 ful Employment\,  \nThey are also adding some fun in the Daily Evening gro
 ups at 4:30:\nTrivia\, Name That Tune\, Jeopardy\, Hangman.
DTSTART;TZID=America/New_York:20200611T163000
DTEND;TZID=America/New_York:20200611T173000
LOCATION:Zoom Meetings
SUMMARY:The Arc/proAbility Daily Evening Meetings
END:VEVENT
END:VCALENDAR
