BEGIN:VCALENDAR
VERSION:2.0
PRODID:-//www.arcnbc.org//NONSGML kigkonsult.se iCalcreator 2.30.10//
CALSCALE:GREGORIAN
METHOD:PUBLISH
UID:934d5fbf-3f3f-4bef-b8c3-2ab0f2b981c8
X-WR-CALDESC:
X-WR-RELCALID:26f33c9565dfea7aae604ee03556b835
X-WR-TIMEZONE:America/New_York
BEGIN:VTIMEZONE
TZID:America/New_York
BEGIN:STANDARD
TZNAME:EST
DTSTART:20191103T020000
TZOFFSETFROM:-0400
TZOFFSETTO:-0500
RDATE:20201101T020000
RDATE:20211107T020000
END:STANDARD
BEGIN:DAYLIGHT
TZNAME:EDT
DTSTART:20200308T020000
TZOFFSETFROM:-0500
TZOFFSETTO:-0400
RDATE:20210314T020000
END:DAYLIGHT
END:VTIMEZONE
BEGIN:VEVENT
UID:f3a46fc9-1878-466c-8df7-8b441bdc70bd
DTSTAMP:20260423T101946Z
DESCRIPTION:
DTSTART;TZID=America/New_York:20200613T180000
DTEND;TZID=America/New_York:20200613T190000
LOCATION:Zoom Meetings
SUMMARY:Knock Em Dead Comedy Show
END:VEVENT
END:VCALENDAR
