BEGIN:VCALENDAR
VERSION:2.0
PRODID:-//www.arcnbc.org//NONSGML kigkonsult.se iCalcreator 2.30.10//
CALSCALE:GREGORIAN
METHOD:PUBLISH
UID:cfed0637-1c51-43bf-8941-b0287698a7af
X-WR-CALDESC:
X-WR-RELCALID:e2c1f6e51ea370995c166e2001e463e8
X-WR-TIMEZONE:America/New_York
BEGIN:VTIMEZONE
TZID:America/New_York
BEGIN:STANDARD
TZNAME:EST
DTSTART:20191103T020000
TZOFFSETFROM:-0400
TZOFFSETTO:-0500
RDATE:20201101T020000
RDATE:20211107T020000
END:STANDARD
BEGIN:DAYLIGHT
TZNAME:EDT
DTSTART:20200308T020000
TZOFFSETFROM:-0500
TZOFFSETTO:-0400
RDATE:20210314T020000
END:DAYLIGHT
END:VTIMEZONE
BEGIN:VEVENT
UID:74fd4fca-95cb-4665-b2dc-c9ed0684c60f
DTSTAMP:20260423T102328Z
DESCRIPTION:
DTSTART;TZID=America/New_York:20200616T110000
DTEND;TZID=America/New_York:20200616T120000
LOCATION:Zoom Meetings
SUMMARY:Paint Your Own Rock Ages 4-10
END:VEVENT
END:VCALENDAR
