BEGIN:VCALENDAR
VERSION:2.0
PRODID:-//www.arcnbc.org//NONSGML kigkonsult.se iCalcreator 2.30.10//
CALSCALE:GREGORIAN
METHOD:PUBLISH
UID:38ef636b-97fd-4624-8503-4caaa248b0d1
X-WR-CALDESC:Get together with friends and complete challenges weekly.  Don
 't forget to get your bingo cards.  There is 25 challenges to complete wee
 kly.
X-WR-RELCALID:a55980b069d8d4820fbe907b53f287ff
X-WR-TIMEZONE:America/New_York
BEGIN:VTIMEZONE
TZID:America/New_York
BEGIN:STANDARD
TZNAME:EST
DTSTART:20191103T020000
TZOFFSETFROM:-0400
TZOFFSETTO:-0500
RDATE:20201101T020000
RDATE:20211107T020000
END:STANDARD
BEGIN:DAYLIGHT
TZNAME:EDT
DTSTART:20200308T020000
TZOFFSETFROM:-0500
TZOFFSETTO:-0400
RDATE:20210314T020000
END:DAYLIGHT
END:VTIMEZONE
BEGIN:VEVENT
UID:fe02a41e-a5af-4855-bf71-88eafa19db7d
DTSTAMP:20260423T102326Z
DESCRIPTION:Get together with friends and complete challenges weekly.  Don'
 t forget to get your bingo cards.  There is 25 challenges to complete week
 ly.
DTSTART;TZID=America/New_York:20200617T160000
DTEND;TZID=America/New_York:20200617T170000
LOCATION:Zoom Meeting
SUMMARY:Bingo Challenge 18+
END:VEVENT
END:VCALENDAR
