BEGIN:VCALENDAR
VERSION:2.0
PRODID:-//www.arcnbc.org//NONSGML kigkonsult.se iCalcreator 2.30.10//
CALSCALE:GREGORIAN
METHOD:PUBLISH
UID:d6b8c755-50a8-4a20-9a9c-95ed3e7bca00
X-WR-CALDESC:Big Joe The Storyteller: Amazing storytelling for all ages and
  occasions featuring original and classic tales\, props\, puppets\, and au
 dience participation! Perfect for Birthday Parties\, Events\, Schools\, Li
 braries or anyplace in need of a great story and great entertainment!!
X-WR-RELCALID:161c1b12bbeaa9d58cad470ced76eff3
X-WR-TIMEZONE:America/New_York
BEGIN:VTIMEZONE
TZID:America/New_York
BEGIN:STANDARD
TZNAME:EST
DTSTART:20191103T020000
TZOFFSETFROM:-0400
TZOFFSETTO:-0500
RDATE:20201101T020000
RDATE:20211107T020000
END:STANDARD
BEGIN:DAYLIGHT
TZNAME:EDT
DTSTART:20200308T020000
TZOFFSETFROM:-0500
TZOFFSETTO:-0400
RDATE:20210314T020000
END:DAYLIGHT
END:VTIMEZONE
BEGIN:VEVENT
UID:8b404c1d-7cb3-4d37-b1a0-90886d5f5d77
DTSTAMP:20260423T102423Z
DESCRIPTION:Big Joe The Storyteller: Amazing storytelling for all ages and 
 occasions featuring original and classic tales\, props\, puppets\, and aud
 ience participation! Perfect for Birthday Parties\, Events\, Schools\, Lib
 raries or anyplace in need of a great story and great entertainment!!
DTSTART;TZID=America/New_York:20200620T100000
DTEND;TZID=America/New_York:20200620T110000
LOCATION:Zoom Meetings
SUMMARY:Big Joe the Story Teller (Under 12)
END:VEVENT
END:VCALENDAR
