BEGIN:VCALENDAR
VERSION:2.0
PRODID:-//www.arcnbc.org//NONSGML kigkonsult.se iCalcreator 2.30.10//
CALSCALE:GREGORIAN
METHOD:PUBLISH
UID:b21d3171-58fd-4c92-9365-ad7d4d537ac6
X-WR-CALDESC:
X-WR-RELCALID:65cc10948367123392fdb03ab8b97dc0
X-WR-TIMEZONE:America/New_York
BEGIN:VTIMEZONE
TZID:America/New_York
BEGIN:STANDARD
TZNAME:EST
DTSTART:20191103T020000
TZOFFSETFROM:-0400
TZOFFSETTO:-0500
RDATE:20201101T020000
RDATE:20211107T020000
END:STANDARD
BEGIN:DAYLIGHT
TZNAME:EDT
DTSTART:20200308T020000
TZOFFSETFROM:-0500
TZOFFSETTO:-0400
RDATE:20210314T020000
END:DAYLIGHT
END:VTIMEZONE
BEGIN:VEVENT
UID:c2e99343-735a-42d3-bbc7-7f1f781ae1f1
DTSTAMP:20260423T102023Z
DESCRIPTION:
DTSTART;TZID=America/New_York:20200623T110000
DTEND;TZID=America/New_York:20200623T120000
LOCATION:Zoom Meetings
SUMMARY:Create Your Own Stepping Stone (Under 18)
END:VEVENT
END:VCALENDAR
