BEGIN:VCALENDAR
VERSION:2.0
PRODID:-//www.arcnbc.org//NONSGML kigkonsult.se iCalcreator 2.30.10//
CALSCALE:GREGORIAN
METHOD:PUBLISH
UID:9d02bcd5-3809-4584-acc6-4261e6b7bec4
X-WR-CALDESC:
X-WR-RELCALID:dd00e52af264e7ed6f9c7c2fd84866f8
X-WR-TIMEZONE:America/New_York
BEGIN:VTIMEZONE
TZID:America/New_York
BEGIN:STANDARD
TZNAME:EST
DTSTART:20191103T020000
TZOFFSETFROM:-0400
TZOFFSETTO:-0500
RDATE:20201101T020000
RDATE:20211107T020000
END:STANDARD
BEGIN:DAYLIGHT
TZNAME:EDT
DTSTART:20200308T020000
TZOFFSETFROM:-0500
TZOFFSETTO:-0400
RDATE:20210314T020000
END:DAYLIGHT
END:VTIMEZONE
BEGIN:VEVENT
UID:65bb11d8-70e6-4725-a10e-5eb18ed08faf
DTSTAMP:20260423T102024Z
DESCRIPTION:
DTSTART;TZID=America/New_York:20200630T140000
DTEND;TZID=America/New_York:20200630T150000
LOCATION:Zoom Meetings
SUMMARY:Create Your Own Stepping Stone 18+
END:VEVENT
END:VCALENDAR
