BEGIN:VCALENDAR
VERSION:2.0
PRODID:-//www.arcnbc.org//NONSGML kigkonsult.se iCalcreator 2.30.10//
CALSCALE:GREGORIAN
METHOD:PUBLISH
UID:592e2cfb-bba2-4f51-999b-49ed9e5d1654
X-WR-CALDESC:Get together with friends and go on a hunt to find some intere
 sting treasure.  This group is for our 6-12 year old in Family Supports.
X-WR-RELCALID:7b55b21eb7ec48d101d7a8c356b1b52a
X-WR-TIMEZONE:America/New_York
BEGIN:VTIMEZONE
TZID:America/New_York
BEGIN:STANDARD
TZNAME:EST
DTSTART:20191103T020000
TZOFFSETFROM:-0400
TZOFFSETTO:-0500
RDATE:20201101T020000
RDATE:20211107T020000
END:STANDARD
BEGIN:DAYLIGHT
TZNAME:EDT
DTSTART:20200308T020000
TZOFFSETFROM:-0500
TZOFFSETTO:-0400
RDATE:20210314T020000
END:DAYLIGHT
END:VTIMEZONE
BEGIN:VEVENT
UID:2043f1ce-e5a1-4aa7-9cae-75c6237a9db8
DTSTAMP:20260423T102719Z
DESCRIPTION:Get together with friends and go on a hunt to find some interes
 ting treasure.  This group is for our 6-12 year old in Family Supports.
DTSTART;TZID=America/New_York:20200708T140000
DTEND;TZID=America/New_York:20200708T150000
LOCATION:Zoom Meetings
SUMMARY:Scavenger Hunt (Ages 6-12)
END:VEVENT
END:VCALENDAR
