BEGIN:VCALENDAR
VERSION:2.0
PRODID:-//www.arcnbc.org//NONSGML kigkonsult.se iCalcreator 2.30.10//
CALSCALE:GREGORIAN
METHOD:PUBLISH
UID:9f379a80-05b8-4b77-95ce-b9f4ca8ded24
X-WR-CALDESC:Get together with your Rec Connect crew.  Check in\, catch up 
 and have fun together.
X-WR-RELCALID:e31c45d21cb7ee993e462bc8d6f586bb
X-WR-TIMEZONE:America/New_York
BEGIN:VTIMEZONE
TZID:America/New_York
BEGIN:STANDARD
TZNAME:EST
DTSTART:20191103T020000
TZOFFSETFROM:-0400
TZOFFSETTO:-0500
RDATE:20201101T020000
RDATE:20211107T020000
END:STANDARD
BEGIN:DAYLIGHT
TZNAME:EDT
DTSTART:20200308T020000
TZOFFSETFROM:-0500
TZOFFSETTO:-0400
RDATE:20210314T020000
END:DAYLIGHT
END:VTIMEZONE
BEGIN:VEVENT
UID:38784751-03c3-4773-b6aa-bc2d5b8dff73
DTSTAMP:20260423T102329Z
DESCRIPTION:Get together with your Rec Connect crew.  Check in\, catch up a
 nd have fun together.
DTSTART;TZID=America/New_York:20200723T153000
DTEND;TZID=America/New_York:20200723T163000
LOCATION:Zoom Meetings
SUMMARY:Rec Connect Weekly Check In & Fun
END:VEVENT
END:VCALENDAR
