BEGIN:VCALENDAR
VERSION:2.0
PRODID:-//www.arcnbc.org//NONSGML kigkonsult.se iCalcreator 2.30.10//
CALSCALE:GREGORIAN
METHOD:PUBLISH
UID:ae86a5bb-f148-4447-aa8a-cbaf5f875a46
X-WR-CALDESC:Here is a list of some of the yummy treats we will be making:
 \nTres’ Leche (Three Milks) Memorial Day Flag cake\nChocolate Chip Cookies
 \n Whoopie Pies\n Frozen Chocolate Monkey Treats\n Beach Ball Cake  (For t
 he First Day Of Summer!!)                                                 
                              \n Chocolate Fudge\n
X-WR-RELCALID:b36bdd8e6387c76869efc368bb8a091c
X-WR-TIMEZONE:America/New_York
BEGIN:VTIMEZONE
TZID:America/New_York
BEGIN:STANDARD
TZNAME:EST
DTSTART:20191103T020000
TZOFFSETFROM:-0400
TZOFFSETTO:-0500
RDATE:20201101T020000
RDATE:20211107T020000
END:STANDARD
BEGIN:DAYLIGHT
TZNAME:EDT
DTSTART:20200308T020000
TZOFFSETFROM:-0500
TZOFFSETTO:-0400
RDATE:20210314T020000
END:DAYLIGHT
END:VTIMEZONE
BEGIN:VEVENT
UID:4287f9b7-7f72-4842-843b-21aed3e73ac9
DTSTAMP:20260423T101946Z
DESCRIPTION:Here is a list of some of the yummy treats we will be making:\n
 Tres’ Leche (Three Milks) Memorial Day Flag cake\nChocolate Chip Cookies\n
  Whoopie Pies\n Frozen Chocolate Monkey Treats\n Beach Ball Cake  (For the
  First Day Of Summer!!)                                                   
                            \n Chocolate Fudge\n
DTSTART;TZID=America/New_York:20200724T143000
DTEND;TZID=America/New_York:20200724T153000
LOCATION:Zoom Meetings
SUMMARY:Baking Group
END:VEVENT
END:VCALENDAR
