BEGIN:VCALENDAR
VERSION:2.0
PRODID:-//www.arcnbc.org//NONSGML kigkonsult.se iCalcreator 2.30.10//
CALSCALE:GREGORIAN
METHOD:PUBLISH
UID:d8612bda-67db-429e-a008-a293be2bb8ad
X-WR-CALDESC:Get together with friends and get moving.  You will hear some 
 of your favorite songs and get to dance along with your friends virtually.
X-WR-RELCALID:afbb37e103026b4be1d8686846048e0b
X-WR-TIMEZONE:America/New_York
BEGIN:VTIMEZONE
TZID:America/New_York
BEGIN:STANDARD
TZNAME:EST
DTSTART:20191103T020000
TZOFFSETFROM:-0400
TZOFFSETTO:-0500
RDATE:20201101T020000
RDATE:20211107T020000
END:STANDARD
BEGIN:DAYLIGHT
TZNAME:EDT
DTSTART:20200308T020000
TZOFFSETFROM:-0500
TZOFFSETTO:-0400
RDATE:20210314T020000
END:DAYLIGHT
END:VTIMEZONE
BEGIN:VEVENT
UID:bf1e3a1b-0685-41af-be20-b597cfddeb5d
DTSTAMP:20260423T103004Z
DESCRIPTION:Get together with friends and get moving.  You will hear some o
 f your favorite songs and get to dance along with your friends virtually.
DTSTART;TZID=America/New_York:20200803T153000
DTEND;TZID=America/New_York:20200803T163000
LOCATION:Zoom Meeting
SUMMARY:Cha-boom 18+ (Chair & Regular Zumba)
END:VEVENT
END:VCALENDAR
