BEGIN:VCALENDAR
VERSION:2.0
PRODID:-//www.arcnbc.org//NONSGML kigkonsult.se iCalcreator 2.30.10//
CALSCALE:GREGORIAN
METHOD:PUBLISH
UID:46df0e98-d376-4ea4-8319-d98d159cc441
X-WR-CALDESC:Get together with friends and go on a hunt to find some intere
 sting treasure.  This group is for our 6-12 year old in Family Supports.
X-WR-RELCALID:86cbb288e05d66ced60d1032a344a84f
X-WR-TIMEZONE:America/New_York
BEGIN:VTIMEZONE
TZID:America/New_York
BEGIN:STANDARD
TZNAME:EST
DTSTART:20191103T020000
TZOFFSETFROM:-0400
TZOFFSETTO:-0500
RDATE:20201101T020000
RDATE:20211107T020000
END:STANDARD
BEGIN:DAYLIGHT
TZNAME:EDT
DTSTART:20200308T020000
TZOFFSETFROM:-0500
TZOFFSETTO:-0400
RDATE:20210314T020000
END:DAYLIGHT
END:VTIMEZONE
BEGIN:VEVENT
UID:b156b3fc-328e-4459-b1fd-c0d88d24e860
DTSTAMP:20260423T102522Z
DESCRIPTION:Get together with friends and go on a hunt to find some interes
 ting treasure.  This group is for our 6-12 year old in Family Supports.
DTSTART;TZID=America/New_York:20200902T140000
DTEND;TZID=America/New_York:20200902T150000
LOCATION:Zoom Meetings
SUMMARY:Scavenger Hunt (Ages 6-12)
END:VEVENT
END:VCALENDAR
