BEGIN:VCALENDAR
VERSION:2.0
PRODID:-//www.arcnbc.org//NONSGML kigkonsult.se iCalcreator 2.30.10//
CALSCALE:GREGORIAN
METHOD:PUBLISH
UID:3c9e5897-ad95-4f85-90f5-ae0fe2608648
X-WR-CALDESC:Here is a list of some of the yummy treats we will be making:
 \nTres’ Leche (Three Milks) Memorial Day Flag cake\nChocolate Chip Cookies
 \n Whoopie Pies\n Frozen Chocolate Monkey Treats\n Beach Ball Cake  (For t
 he First Day Of Summer!!)                                                 
                              \n Chocolate Fudge\n
X-WR-RELCALID:4ca5cf3055a6d8a3e69e3ab2f3cb6e4d
X-WR-TIMEZONE:America/New_York
BEGIN:VTIMEZONE
TZID:America/New_York
BEGIN:STANDARD
TZNAME:EST
DTSTART:20191103T020000
TZOFFSETFROM:-0400
TZOFFSETTO:-0500
RDATE:20201101T020000
RDATE:20211107T020000
END:STANDARD
BEGIN:DAYLIGHT
TZNAME:EDT
DTSTART:20200308T020000
TZOFFSETFROM:-0500
TZOFFSETTO:-0400
RDATE:20210314T020000
RDATE:20220313T020000
END:DAYLIGHT
END:VTIMEZONE
BEGIN:VEVENT
UID:f1061c5a-d6f4-4fd1-9b4f-04133f09a75b
DTSTAMP:20260423T101819Z
DESCRIPTION:Here is a list of some of the yummy treats we will be making:\n
 Tres’ Leche (Three Milks) Memorial Day Flag cake\nChocolate Chip Cookies\n
  Whoopie Pies\n Frozen Chocolate Monkey Treats\n Beach Ball Cake  (For the
  First Day Of Summer!!)                                                   
                            \n Chocolate Fudge\n
DTSTART;TZID=America/New_York:20200911T143000
DTEND;TZID=America/New_York:20200911T153000
LOCATION:Zoom Meetings
SUMMARY:Baking Group
END:VEVENT
END:VCALENDAR
