BEGIN:VCALENDAR
VERSION:2.0
PRODID:-//www.arcnbc.org//NONSGML kigkonsult.se iCalcreator 2.30.10//
CALSCALE:GREGORIAN
METHOD:PUBLISH
UID:83d8d842-3ee4-4b9e-8de6-be9a606e389e
X-WR-CALDESC:Get together with friends and get moving.  You will hear some 
 of your favorite songs and get to dance along with your friends virtually.
X-WR-RELCALID:60f30991a0d67a68f515e1ea3d86b00a
X-WR-TIMEZONE:America/New_York
BEGIN:VTIMEZONE
TZID:America/New_York
BEGIN:STANDARD
TZNAME:EST
DTSTART:20191103T020000
TZOFFSETFROM:-0400
TZOFFSETTO:-0500
RDATE:20201101T020000
RDATE:20211107T020000
END:STANDARD
BEGIN:DAYLIGHT
TZNAME:EDT
DTSTART:20200308T020000
TZOFFSETFROM:-0500
TZOFFSETTO:-0400
RDATE:20210314T020000
RDATE:20220313T020000
END:DAYLIGHT
END:VTIMEZONE
BEGIN:VEVENT
UID:88c45f92-09d3-4617-97b5-8692c6b8825c
DTSTAMP:20260423T103122Z
DESCRIPTION:Get together with friends and get moving.  You will hear some o
 f your favorite songs and get to dance along with your friends virtually.
DTSTART;TZID=America/New_York:20200916T120000
DTEND;TZID=America/New_York:20200916T130000
LOCATION:Zoom Meeting
SUMMARY:Cha-boom Under 18 (Chair & Regular Zumba)
END:VEVENT
END:VCALENDAR
