BEGIN:VCALENDAR
VERSION:2.0
PRODID:-//www.arcnbc.org//NONSGML kigkonsult.se iCalcreator 2.30.10//
CALSCALE:GREGORIAN
METHOD:PUBLISH
UID:51764543-f60d-499c-90cc-43687558adac
X-WR-CALDESC:Come and play the Bingo Challenge game! Each week\,  at 4 pm\,
  a new challenge is called randomly for you to complete! Then you will com
 e back and show all your friends at 7 pm \, what you have done for the cha
 llenge! You get to see what all your friends have done too! You will recei
 ve a bingo card with all the challenges on it. Once you complete a challen
 ge\, you mark the square. When you get a Bingo\, you win! \n
X-WR-RELCALID:ad100d9dbe962fc0a2537317c9f84714
X-WR-TIMEZONE:America/New_York
BEGIN:VTIMEZONE
TZID:America/New_York
BEGIN:STANDARD
TZNAME:EST
DTSTART:20191103T020000
TZOFFSETFROM:-0400
TZOFFSETTO:-0500
RDATE:20201101T020000
RDATE:20211107T020000
END:STANDARD
BEGIN:DAYLIGHT
TZNAME:EDT
DTSTART:20200308T020000
TZOFFSETFROM:-0500
TZOFFSETTO:-0400
RDATE:20210314T020000
RDATE:20220313T020000
END:DAYLIGHT
END:VTIMEZONE
BEGIN:VEVENT
UID:50471db9-ed85-4d22-a521-e70d6b53bd91
DTSTAMP:20260423T102145Z
DESCRIPTION:Come and play the Bingo Challenge game! Each week\,  at 4 pm\, 
 a new challenge is called randomly for you to complete! Then you will come
  back and show all your friends at 7 pm \, what you have done for the chal
 lenge! You get to see what all your friends have done too! You will receiv
 e a bingo card with all the challenges on it. Once you complete a challeng
 e\, you mark the square. When you get a Bingo\, you win! \n
DTSTART;TZID=America/New_York:20200925T160000
DTEND;TZID=America/New_York:20200925T163000
LOCATION:Zoom Meetings
SUMMARY:Bingo Challenge Under 18
END:VEVENT
END:VCALENDAR
