BEGIN:VCALENDAR
VERSION:2.0
PRODID:-//www.arcnbc.org//NONSGML kigkonsult.se iCalcreator 2.30.10//
CALSCALE:GREGORIAN
METHOD:PUBLISH
UID:55381b32-8d6e-4866-97c1-48b5b0d3913d
X-WR-CALDESC:This is a chance for moms to get together and vent\, brainstor
 m\, gather.  This will be held weekly for all you amazing moms out there.
X-WR-RELCALID:5863623db771e06fa2199fda1e7a6153
X-WR-TIMEZONE:America/New_York
BEGIN:VTIMEZONE
TZID:America/New_York
BEGIN:STANDARD
TZNAME:EST
DTSTART:20191103T020000
TZOFFSETFROM:-0400
TZOFFSETTO:-0500
RDATE:20201101T020000
RDATE:20211107T020000
END:STANDARD
BEGIN:DAYLIGHT
TZNAME:EDT
DTSTART:20200308T020000
TZOFFSETFROM:-0500
TZOFFSETTO:-0400
RDATE:20210314T020000
RDATE:20220313T020000
END:DAYLIGHT
END:VTIMEZONE
BEGIN:VEVENT
UID:c9defc9f-cbe1-4e96-94e8-0551d2e7795a
DTSTAMP:20260423T102146Z
DESCRIPTION:This is a chance for moms to get together and vent\, brainstorm
 \, gather.  This will be held weekly for all you amazing moms out there.
DTSTART;TZID=America/New_York:20201012T190000
DTEND;TZID=America/New_York:20201012T200000
LOCATION:Zoom Meetings
SUMMARY:Mom's Support Group
END:VEVENT
END:VCALENDAR
