BEGIN:VCALENDAR
VERSION:2.0
PRODID:-//www.arcnbc.org//NONSGML kigkonsult.se iCalcreator 2.30.10//
CALSCALE:GREGORIAN
METHOD:PUBLISH
UID:23c01892-9589-484e-bd59-450946ef5849
X-WR-CALDESC:A chance to get together with friends and test your skills.
X-WR-RELCALID:c0ae9d09060ba637fd3a96c619fba4f2
X-WR-TIMEZONE:America/New_York
BEGIN:VTIMEZONE
TZID:America/New_York
BEGIN:STANDARD
TZNAME:EST
DTSTART:20201101T020000
TZOFFSETFROM:-0400
TZOFFSETTO:-0500
RDATE:20211107T020000
END:STANDARD
BEGIN:DAYLIGHT
TZNAME:EDT
DTSTART:20200308T020000
TZOFFSETFROM:-0500
TZOFFSETTO:-0400
RDATE:20210314T020000
RDATE:20220313T020000
END:DAYLIGHT
END:VTIMEZONE
BEGIN:VEVENT
UID:d3a100cf-d75a-43c1-83f5-c5b69707d6c4
DTSTAMP:20260423T102253Z
DESCRIPTION:A chance to get together with friends and test your skills.
DTSTART;TZID=America/New_York:20201109T143000
DTEND;TZID=America/New_York:20201109T153000
LOCATION:Zoom Meeting
SUMMARY:Trivia 18+
END:VEVENT
END:VCALENDAR
