BEGIN:VCALENDAR
VERSION:2.0
PRODID:-//www.arcnbc.org//NONSGML kigkonsult.se iCalcreator 2.30.10//
CALSCALE:GREGORIAN
METHOD:PUBLISH
UID:c6300747-538b-42c8-9fc8-5e4cb3dc0f64
X-WR-CALDESC:This is a chance for moms to get together and vent\, brainstor
 m\, gather.  This will be held weekly for all you amazing moms out there.
X-WR-RELCALID:d06915cb223abbc9c403f2c92a14af3b
X-WR-TIMEZONE:America/New_York
BEGIN:VTIMEZONE
TZID:America/New_York
BEGIN:STANDARD
TZNAME:EST
DTSTART:20201101T020000
TZOFFSETFROM:-0400
TZOFFSETTO:-0500
RDATE:20211107T020000
END:STANDARD
BEGIN:DAYLIGHT
TZNAME:EDT
DTSTART:20200308T020000
TZOFFSETFROM:-0500
TZOFFSETTO:-0400
RDATE:20210314T020000
RDATE:20220313T020000
END:DAYLIGHT
END:VTIMEZONE
BEGIN:VEVENT
UID:214f13c0-ef6d-4933-8bc5-67b5baaa4d41
DTSTAMP:20260423T102028Z
DESCRIPTION:This is a chance for moms to get together and vent\, brainstorm
 \, gather.  This will be held weekly for all you amazing moms out there.
DTSTART;TZID=America/New_York:20201109T190000
DTEND;TZID=America/New_York:20201109T200000
LOCATION:Zoom Meetings
SUMMARY:Mom's Support Group
END:VEVENT
END:VCALENDAR
