BEGIN:VCALENDAR
VERSION:2.0
PRODID:-//www.arcnbc.org//NONSGML kigkonsult.se iCalcreator 2.30.10//
CALSCALE:GREGORIAN
METHOD:PUBLISH
UID:6872528a-7af9-435e-9c9c-418d6dce7e59
X-WR-CALDESC:Get together with friends and complete challenges weekly.  Don
 't forget to get your bingo cards.  There is 25 challenges to complete wee
 kly.
X-WR-RELCALID:567ef16156473ba600d7072dd39bfafd
X-WR-TIMEZONE:America/New_York
BEGIN:VTIMEZONE
TZID:America/New_York
BEGIN:STANDARD
TZNAME:EST
DTSTART:20201101T020000
TZOFFSETFROM:-0400
TZOFFSETTO:-0500
RDATE:20211107T020000
END:STANDARD
BEGIN:DAYLIGHT
TZNAME:EDT
DTSTART:20200308T020000
TZOFFSETFROM:-0500
TZOFFSETTO:-0400
RDATE:20210314T020000
RDATE:20220313T020000
END:DAYLIGHT
END:VTIMEZONE
BEGIN:VEVENT
UID:365753a8-51d4-4984-8cb8-8134c3049892
DTSTAMP:20260423T102302Z
DESCRIPTION:Get together with friends and complete challenges weekly.  Don'
 t forget to get your bingo cards.  There is 25 challenges to complete week
 ly.
DTSTART;TZID=America/New_York:20201202T160000
DTEND;TZID=America/New_York:20201202T170000
LOCATION:Zoom Meeting
SUMMARY:Bingo Challenge 18+
END:VEVENT
END:VCALENDAR
