BEGIN:VCALENDAR
VERSION:2.0
PRODID:-//www.arcnbc.org//NONSGML kigkonsult.se iCalcreator 2.30.10//
CALSCALE:GREGORIAN
METHOD:PUBLISH
UID:f5ce01b3-7b1e-49ef-b8bf-e3abeaa243a5
X-WR-CALDESC:Get together with friends and go on a hunt to find some intere
 sting treasure.  This group is for our 6-12 year old in Family Supports.
X-WR-RELCALID:98ab628fd60dabf04761276df3113c3c
X-WR-TIMEZONE:America/New_York
BEGIN:VTIMEZONE
TZID:America/New_York
BEGIN:STANDARD
TZNAME:EST
DTSTART:20201101T020000
TZOFFSETFROM:-0400
TZOFFSETTO:-0500
RDATE:20211107T020000
END:STANDARD
BEGIN:DAYLIGHT
TZNAME:EDT
DTSTART:20200308T020000
TZOFFSETFROM:-0500
TZOFFSETTO:-0400
RDATE:20210314T020000
RDATE:20220313T020000
END:DAYLIGHT
END:VTIMEZONE
BEGIN:VEVENT
UID:986c8789-cf6f-4bed-8501-72c5a36ee646
DTSTAMP:20260423T084543Z
DESCRIPTION:Get together with friends and go on a hunt to find some interes
 ting treasure.  This group is for our 6-12 year old in Family Supports.
DTSTART;TZID=America/New_York:20210120T140000
DTEND;TZID=America/New_York:20210120T150000
LOCATION:Zoom Meetings
SUMMARY:Scavenger Hunt (Ages 6-12)
END:VEVENT
END:VCALENDAR
