BEGIN:VCALENDAR
VERSION:2.0
PRODID:-//www.arcnbc.org//NONSGML kigkonsult.se iCalcreator 2.30.10//
CALSCALE:GREGORIAN
METHOD:PUBLISH
UID:b1152d98-a555-4049-9677-b65675c3c49f
X-WR-CALDESC:Here is a list of some of the yummy treats we will be making:
 \nTres’ Leche (Three Milks) Memorial Day Flag cake\nChocolate Chip Cookies
 \n Whoopie Pies\n Frozen Chocolate Monkey Treats\n Beach Ball Cake  (For t
 he First Day Of Summer!!)                                                 
                              \n Chocolate Fudge\n
X-WR-RELCALID:808bd581d54542a4738bbcf614d9b6a5
X-WR-TIMEZONE:America/New_York
BEGIN:VTIMEZONE
TZID:America/New_York
BEGIN:STANDARD
TZNAME:EST
DTSTART:20201101T020000
TZOFFSETFROM:-0400
TZOFFSETTO:-0500
RDATE:20211107T020000
END:STANDARD
BEGIN:DAYLIGHT
TZNAME:EDT
DTSTART:20200308T020000
TZOFFSETFROM:-0500
TZOFFSETTO:-0400
RDATE:20210314T020000
RDATE:20220313T020000
END:DAYLIGHT
END:VTIMEZONE
BEGIN:VEVENT
UID:82b692fe-b590-4aeb-a180-2fda8a14b595
DTSTAMP:20260423T084042Z
DESCRIPTION:Here is a list of some of the yummy treats we will be making:\n
 Tres’ Leche (Three Milks) Memorial Day Flag cake\nChocolate Chip Cookies\n
  Whoopie Pies\n Frozen Chocolate Monkey Treats\n Beach Ball Cake  (For the
  First Day Of Summer!!)                                                   
                            \n Chocolate Fudge\n
DTSTART;TZID=America/New_York:20210122T143000
DTEND;TZID=America/New_York:20210122T153000
LOCATION:Zoom Meetings
SUMMARY:Baking Group
END:VEVENT
END:VCALENDAR
