BEGIN:VCALENDAR
VERSION:2.0
PRODID:-//www.arcnbc.org//NONSGML kigkonsult.se iCalcreator 2.30.10//
CALSCALE:GREGORIAN
METHOD:PUBLISH
UID:3fb596ba-10a3-41bc-a318-cef77e2c15cc
X-WR-CALDESC:This is your chance to make your own Comic Hero.  Get together
  on Tuesday afternoon with friends and let your imagination run free.
X-WR-RELCALID:fe47bac71e2dd5c82a1f468e73f2734b
X-WR-TIMEZONE:America/New_York
BEGIN:VTIMEZONE
TZID:America/New_York
BEGIN:STANDARD
TZNAME:EST
DTSTART:20201101T020000
TZOFFSETFROM:-0400
TZOFFSETTO:-0500
RDATE:20211107T020000
END:STANDARD
BEGIN:DAYLIGHT
TZNAME:EDT
DTSTART:20200308T020000
TZOFFSETFROM:-0500
TZOFFSETTO:-0400
RDATE:20210314T020000
RDATE:20220313T020000
END:DAYLIGHT
END:VTIMEZONE
BEGIN:VEVENT
UID:d6b3e3fa-cbda-4e4a-a11f-9e0e60b765ee
DTSTAMP:20260423T084450Z
DESCRIPTION:This is your chance to make your own Comic Hero.  Get together 
 on Tuesday afternoon with friends and let your imagination run free.
DTSTART;TZID=America/New_York:20210126T150000
DTEND;TZID=America/New_York:20210126T160000
LOCATION:Zoom Meeting
SUMMARY:Create Your Own Comic Book
END:VEVENT
END:VCALENDAR
