BEGIN:VCALENDAR
VERSION:2.0
PRODID:-//www.arcnbc.org//NONSGML kigkonsult.se iCalcreator 2.30.10//
CALSCALE:GREGORIAN
METHOD:PUBLISH
UID:79e8491a-ba5d-436a-8944-0c51a319c0cf
X-WR-CALDESC:Get together with friends and complete challenges weekly.  Don
 't forget to get your bingo cards.  There is 25 challenges to complete wee
 kly.
X-WR-RELCALID:a4d6fbcf0904a08d7c9683a0f3ca998b
X-WR-TIMEZONE:America/New_York
BEGIN:VTIMEZONE
TZID:America/New_York
BEGIN:STANDARD
TZNAME:EST
DTSTART:20201101T020000
TZOFFSETFROM:-0400
TZOFFSETTO:-0500
RDATE:20211107T020000
END:STANDARD
BEGIN:DAYLIGHT
TZNAME:EDT
DTSTART:20200308T020000
TZOFFSETFROM:-0500
TZOFFSETTO:-0400
RDATE:20210314T020000
RDATE:20220313T020000
END:DAYLIGHT
END:VTIMEZONE
BEGIN:VEVENT
UID:29c1ebf3-75bd-4dec-b916-04285b23197d
DTSTAMP:20260423T084128Z
DESCRIPTION:Get together with friends and complete challenges weekly.  Don'
 t forget to get your bingo cards.  There is 25 challenges to complete week
 ly.
DTSTART;TZID=America/New_York:20210210T160000
DTEND;TZID=America/New_York:20210210T170000
LOCATION:Zoom Meeting
SUMMARY:Bingo Challenge 18+
END:VEVENT
END:VCALENDAR
