BEGIN:VCALENDAR
VERSION:2.0
PRODID:-//www.arcnbc.org//NONSGML kigkonsult.se iCalcreator 2.30.10//
CALSCALE:GREGORIAN
METHOD:PUBLISH
UID:2784e658-bd98-4b72-98e1-1e59399f6dff
X-WR-CALDESC:Here is a list of some of the yummy treats we will be making:
 \nTres’ Leche (Three Milks) Memorial Day Flag cake\nChocolate Chip Cookies
 \n Whoopie Pies\n Frozen Chocolate Monkey Treats\n Beach Ball Cake  (For t
 he First Day Of Summer!!)                                                 
                              \n Chocolate Fudge\n
X-WR-RELCALID:44296ad931cbd08055f4135d182c888b
X-WR-TIMEZONE:America/New_York
BEGIN:VTIMEZONE
TZID:America/New_York
BEGIN:STANDARD
TZNAME:EST
DTSTART:20201101T020000
TZOFFSETFROM:-0400
TZOFFSETTO:-0500
RDATE:20211107T020000
END:STANDARD
BEGIN:DAYLIGHT
TZNAME:EDT
DTSTART:20200308T020000
TZOFFSETFROM:-0500
TZOFFSETTO:-0400
RDATE:20210314T020000
RDATE:20220313T020000
END:DAYLIGHT
END:VTIMEZONE
BEGIN:VEVENT
UID:dfc1b4a6-4386-411b-b469-d7f8ee69feca
DTSTAMP:20260423T084033Z
DESCRIPTION:Here is a list of some of the yummy treats we will be making:\n
 Tres’ Leche (Three Milks) Memorial Day Flag cake\nChocolate Chip Cookies\n
  Whoopie Pies\n Frozen Chocolate Monkey Treats\n Beach Ball Cake  (For the
  First Day Of Summer!!)                                                   
                            \n Chocolate Fudge\n
DTSTART;TZID=America/New_York:20210212T143000
DTEND;TZID=America/New_York:20210212T153000
LOCATION:Zoom Meetings
SUMMARY:Baking Group
END:VEVENT
END:VCALENDAR
