BEGIN:VCALENDAR
VERSION:2.0
PRODID:-//www.arcnbc.org//NONSGML kigkonsult.se iCalcreator 2.30.10//
CALSCALE:GREGORIAN
METHOD:PUBLISH
UID:e082e7d2-61f1-4ba6-9586-2b15754e0a79
X-WR-CALDESC:This is your chance to make your own Comic Hero.  Get together
  on Tuesday afternoon with friends and let your imagination run free.
X-WR-RELCALID:c3e6021580f7a6972aafc1baaa9aafe1
X-WR-TIMEZONE:America/New_York
BEGIN:VTIMEZONE
TZID:America/New_York
BEGIN:STANDARD
TZNAME:EST
DTSTART:20201101T020000
TZOFFSETFROM:-0400
TZOFFSETTO:-0500
RDATE:20211107T020000
END:STANDARD
BEGIN:DAYLIGHT
TZNAME:EDT
DTSTART:20200308T020000
TZOFFSETFROM:-0500
TZOFFSETTO:-0400
RDATE:20210314T020000
RDATE:20220313T020000
END:DAYLIGHT
END:VTIMEZONE
BEGIN:VEVENT
UID:97ecc6d3-a6e6-4314-a00e-6fb18f297b6f
DTSTAMP:20260423T084215Z
DESCRIPTION:This is your chance to make your own Comic Hero.  Get together 
 on Tuesday afternoon with friends and let your imagination run free.
DTSTART;TZID=America/New_York:20210223T150000
DTEND;TZID=America/New_York:20210223T160000
LOCATION:Zoom Meeting
SUMMARY:Create Your Own Comic Book
END:VEVENT
END:VCALENDAR
