BEGIN:VCALENDAR
VERSION:2.0
PRODID:-//www.arcnbc.org//NONSGML kigkonsult.se iCalcreator 2.30.10//
CALSCALE:GREGORIAN
METHOD:PUBLISH
UID:d3bfd432-1667-47a6-8c87-0e1fe696a88b
X-WR-CALDESC:Come and play the Bingo Challenge game! Each week\,  at 4 pm\,
  a new challenge is called randomly for you to complete! Then you will com
 e back and show all your friends at 7 pm \, what you have done for the cha
 llenge! You get to see what all your friends have done too! You will recei
 ve a bingo card with all the challenges on it. Once you complete a challen
 ge\, you mark the square. When you get a Bingo\, you win! \n
X-WR-RELCALID:1954b6fe5a80d80b404525d7324ff27f
X-WR-TIMEZONE:America/New_York
BEGIN:VTIMEZONE
TZID:America/New_York
BEGIN:STANDARD
TZNAME:EST
DTSTART:20201101T020000
TZOFFSETFROM:-0400
TZOFFSETTO:-0500
RDATE:20211107T020000
END:STANDARD
BEGIN:DAYLIGHT
TZNAME:EDT
DTSTART:20210314T020000
TZOFFSETFROM:-0500
TZOFFSETTO:-0400
RDATE:20220313T020000
END:DAYLIGHT
END:VTIMEZONE
BEGIN:VEVENT
UID:a4ad6c80-2942-45e5-94eb-e6138eded55a
DTSTAMP:20260423T084208Z
DESCRIPTION:Come and play the Bingo Challenge game! Each week\,  at 4 pm\, 
 a new challenge is called randomly for you to complete! Then you will come
  back and show all your friends at 7 pm \, what you have done for the chal
 lenge! You get to see what all your friends have done too! You will receiv
 e a bingo card with all the challenges on it. Once you complete a challeng
 e\, you mark the square. When you get a Bingo\, you win! \n
DTSTART;TZID=America/New_York:20210312T190000
DTEND;TZID=America/New_York:20210312T193000
LOCATION:Zoom Meetings
SUMMARY:Bingo Challenge Under 18
END:VEVENT
END:VCALENDAR
