BEGIN:VCALENDAR
VERSION:2.0
PRODID:-//www.arcnbc.org//NONSGML kigkonsult.se iCalcreator 2.30.10//
CALSCALE:GREGORIAN
METHOD:PUBLISH
UID:3d38d154-18e9-4570-9b78-f128c038d1e0
X-WR-CALDESC:Get together with friends and go on a hunt to find some intere
 sting treasure.  This group is for our 6-12 year old in Family Supports.
X-WR-RELCALID:940158dd244e1076d34e2a0b30ccd832
X-WR-TIMEZONE:America/New_York
BEGIN:VTIMEZONE
TZID:America/New_York
BEGIN:STANDARD
TZNAME:EST
DTSTART:20201101T020000
TZOFFSETFROM:-0400
TZOFFSETTO:-0500
RDATE:20211107T020000
END:STANDARD
BEGIN:DAYLIGHT
TZNAME:EDT
DTSTART:20210314T020000
TZOFFSETFROM:-0500
TZOFFSETTO:-0400
RDATE:20220313T020000
END:DAYLIGHT
END:VTIMEZONE
BEGIN:VEVENT
UID:e00359e4-1767-40bb-ad93-56d37b8ee0d0
DTSTAMP:20260423T084657Z
DESCRIPTION:Get together with friends and go on a hunt to find some interes
 ting treasure.  This group is for our 6-12 year old in Family Supports.
DTSTART;TZID=America/New_York:20210331T140000
DTEND;TZID=America/New_York:20210331T150000
LOCATION:Zoom Meetings
SUMMARY:Scavenger Hunt (Ages 6-12)
END:VEVENT
END:VCALENDAR
