BEGIN:VCALENDAR
VERSION:2.0
PRODID:-//www.arcnbc.org//NONSGML kigkonsult.se iCalcreator 2.30.10//
CALSCALE:GREGORIAN
METHOD:PUBLISH
UID:da97087f-a509-46a9-8573-2d64501f2dff
X-WR-CALDESC:Get together with friends and complete challenges weekly.  Don
 't forget to get your bingo cards.  There is 25 challenges to complete wee
 kly.
X-WR-RELCALID:3ddfe50245adbc18536d01a299779dec
X-WR-TIMEZONE:America/New_York
BEGIN:VTIMEZONE
TZID:America/New_York
BEGIN:STANDARD
TZNAME:EST
DTSTART:20201101T020000
TZOFFSETFROM:-0400
TZOFFSETTO:-0500
RDATE:20211107T020000
END:STANDARD
BEGIN:DAYLIGHT
TZNAME:EDT
DTSTART:20210314T020000
TZOFFSETFROM:-0500
TZOFFSETTO:-0400
RDATE:20220313T020000
END:DAYLIGHT
END:VTIMEZONE
BEGIN:VEVENT
UID:cbe81abf-e78d-4023-8066-6e0df426c2cd
DTSTAMP:20260423T084345Z
DESCRIPTION:Get together with friends and complete challenges weekly.  Don'
 t forget to get your bingo cards.  There is 25 challenges to complete week
 ly.
DTSTART;TZID=America/New_York:20210331T160000
DTEND;TZID=America/New_York:20210331T170000
LOCATION:Zoom Meeting
SUMMARY:Bingo Challenge 18+
END:VEVENT
END:VCALENDAR
